BEGIN:VCALENDAR
VERSION:2.0
PRODID:-//Squarespace Inc/Squarespace 6//v6//EN
BEGIN:VEVENT
UID:5ed38daa8367410cdc0c8f24@squarespace.com
DTSTAMP:20201021T003245Z
DTSTART:20200604T210000Z
DTEND:20200607T070000Z
SUMMARY:Booked Out
END:VEVENT
END:VCALENDAR
