BEGIN:VCALENDAR
VERSION:2.0
PRODID:-//Squarespace Inc/Squarespace 6//v6//EN
BEGIN:VEVENT
UID:5ed3906f8367410cdc0c8f36@squarespace.com
DTSTAMP:20201021T002944Z
DTSTART:20200704T210000Z
DTEND:20200705T070000Z
SUMMARY:Booked Out
END:VEVENT
END:VCALENDAR
