BEGIN:VCALENDAR
VERSION:2.0
PRODID:-//Squarespace Inc/Squarespace 6//v6//EN
BEGIN:VEVENT
UID:5ed3903425bc583e006b9219@squarespace.com
DTSTAMP:20201021T003001Z
DTSTART:20200618T210000Z
DTEND:20200621T070000Z
SUMMARY:Booked Out
END:VEVENT
END:VCALENDAR
