BEGIN:VCALENDAR
VERSION:2.0
PRODID:-//Squarespace Inc/Squarespace 6//v6//EN
BEGIN:VEVENT
UID:5ed38fe025bc583e006b9217@squarespace.com
DTSTAMP:20201021T003022Z
DTSTART:20200611T210000Z
DTEND:20200614T073000Z
SUMMARY:Booked Out
END:VEVENT
END:VCALENDAR
