BEGIN:VCALENDAR
VERSION:2.0
PRODID:-//Squarespace Inc/Squarespace 6//v6//EN
BEGIN:VEVENT
UID:5f8f823d8abb431edcbf6f4c@squarespace.com
DTSTAMP:20201021T003537Z
DTSTART:20201205T210000Z
DTEND:20201206T070000Z
SUMMARY:Booked Out
END:VEVENT
END:VCALENDAR
