BEGIN:VCALENDAR
VERSION:2.0
PRODID:-//Squarespace Inc/Squarespace 6//v6//EN
BEGIN:VEVENT
UID:5f8f8217b6eb251bcd46870a@squarespace.com
DTSTAMP:20201021T003500Z
DTSTART:20201204T210000Z
DTEND:20201205T070000Z
SUMMARY:Booked Out
END:VEVENT
END:VCALENDAR
