BEGIN:VCALENDAR
VERSION:2.0
PRODID:-//Squarespace Inc/Squarespace 6//v6//EN
BEGIN:VEVENT
UID:5f8e8b0243a8423e3c5feb9d@squarespace.com
DTSTAMP:20201020T070103Z
DTSTART:20201107T210000Z
DTEND:20201108T070000Z
SUMMARY:Booked Out
END:VEVENT
END:VCALENDAR
