BEGIN:VCALENDAR
VERSION:2.0
PRODID:-//Squarespace Inc/Squarespace 6//v6//EN
BEGIN:VEVENT
UID:5f8e8ad10d07d02227ee6760@squarespace.com
DTSTAMP:20201020T070247Z
DTSTART:20201106T210000Z
DTEND:20201107T070000Z
SUMMARY:Booked Out
END:VEVENT
END:VCALENDAR
