BEGIN:VCALENDAR
VERSION:2.0
PRODID:-//Squarespace Inc/Squarespace 6//v6//EN
BEGIN:VEVENT
UID:5f8f7fcf2ef5d106f26d7a15@squarespace.com
DTSTAMP:20201021T002518Z
DTSTART:20201127T210000Z
DTEND:20201128T070000Z
SUMMARY:Booked Out
END:VEVENT
END:VCALENDAR
