BEGIN:VCALENDAR
VERSION:2.0
PRODID:-//Squarespace Inc/Squarespace 6//v6//EN
BEGIN:VEVENT
UID:5f8f7f852ef5d106f26d6de7@squarespace.com
DTSTAMP:20201021T002423Z
DTSTART:20201126T210000Z
DTEND:20201127T070000Z
SUMMARY:Booked Out
END:VEVENT
END:VCALENDAR
