BEGIN:VCALENDAR
VERSION:2.0
PRODID:-//Squarespace Inc/Squarespace 6//v6//EN
BEGIN:VEVENT
UID:5f8f81e9079c8d584373fbd8@squarespace.com
DTSTAMP:20201021T003420Z
DTSTART:20201114T210000Z
DTEND:20201115T070000Z
SUMMARY:Booked Out
END:VEVENT
END:VCALENDAR
