BEGIN:VCALENDAR
VERSION:2.0
PRODID:-//Squarespace Inc/Squarespace 6//v6//EN
BEGIN:VEVENT
UID:5f8f807a988901718f16fc2f@squarespace.com
DTSTAMP:20201021T002819Z
DTSTART:20201031T210000Z
DTEND:20201101T070000Z
SUMMARY:Booked Out
END:VEVENT
END:VCALENDAR
