BEGIN:VCALENDAR
VERSION:2.0
PRODID:-//Squarespace Inc/Squarespace 6//v6//EN
BEGIN:VEVENT
UID:5d5e2d5e551ec8000183df0c@squarespace.com
DTSTAMP:20190822T055215Z
DTSTART:20190831T210000Z
DTEND:20190901T070000Z
SUMMARY:Booked Out
END:VEVENT
END:VCALENDAR
