BEGIN:VCALENDAR
VERSION:2.0
PRODID:-//Squarespace Inc/Squarespace 6//v6//EN
BEGIN:VEVENT
UID:5d3431177aeb300001f73823@squarespace.com
DTSTAMP:20190721T093237Z
DTSTART:20190830T210000Z
DTEND:20190831T100000Z
SUMMARY:Booked Out
END:VEVENT
END:VCALENDAR
