BEGIN:VCALENDAR
VERSION:2.0
PRODID:-//Squarespace Inc/Squarespace 6//v6//EN
BEGIN:VEVENT
UID:5d3430efdca0840001a48275@squarespace.com
DTSTAMP:20190721T093158Z
DTSTART:20190817T210000Z
DTEND:20190818T070000Z
SUMMARY:Booked Out
END:VEVENT
END:VCALENDAR
