BEGIN:VCALENDAR
VERSION:2.0
PRODID:-//Squarespace Inc/Squarespace 6//v6//EN
BEGIN:VEVENT
UID:5d3431a382d5a400015e40c3@squarespace.com
DTSTAMP:20190721T093459Z
DTSTART:20190816T210000Z
DTEND:20190817T070000Z
SUMMARY:Booked Out
END:VEVENT
END:VCALENDAR
