BEGIN:VCALENDAR
VERSION:2.0
PRODID:-//Squarespace Inc/Squarespace 6//v6//EN
BEGIN:VEVENT
UID:5d3431e1e1312100010493b9@squarespace.com
DTSTAMP:20190721T093558Z
DTSTART:20190727T210000Z
DTEND:20190728T070000Z
SUMMARY:Booked Out
END:VEVENT
END:VCALENDAR
