BEGIN:VCALENDAR
VERSION:2.0
PRODID:-//Squarespace Inc/Squarespace 6//v6//EN
BEGIN:VEVENT
UID:5d132cbb4723b50001843882@squarespace.com
DTSTAMP:20190626T083116Z
DTSTART:20190726T210000Z
DTEND:20190727T070000Z
SUMMARY:Booked Out
END:VEVENT
END:VCALENDAR
