BEGIN:VCALENDAR
VERSION:2.0
PRODID:-//Squarespace Inc/Squarespace 6//v6//EN
BEGIN:VEVENT
UID:5d90879be28e135d1058361c@squarespace.com
DTSTAMP:20190929T103027Z
DTSTART:20191108T200000Z
DTEND:20191109T060000Z
SUMMARY:Booked Out
END:VEVENT
END:VCALENDAR
