BEGIN:VCALENDAR
VERSION:2.0
PRODID:-//Squarespace Inc/Squarespace 6//v6//EN
BEGIN:VEVENT
UID:5d908804f81c5b0c1718ba29@squarespace.com
DTSTAMP:20190929T103157Z
DTSTART:20191129T200000Z
DTEND:20191130T060000Z
SUMMARY:Booked Out
END:VEVENT
END:VCALENDAR
