BEGIN:VCALENDAR
VERSION:2.0
PRODID:-//Squarespace Inc/Squarespace 6//v6//EN
BEGIN:VEVENT
UID:5d908826dab9ec13bf431e9f@squarespace.com
DTSTAMP:20190929T103323Z
DTSTART:20191115T200000Z
DTEND:20191117T060000Z
SUMMARY:Booked Out
END:VEVENT
END:VCALENDAR
