BEGIN:VCALENDAR
VERSION:2.0
PRODID:-//Squarespace Inc/Squarespace 6//v6//EN
BEGIN:VEVENT
UID:5d9087cbf81c5b0c1718b7d9@squarespace.com
DTSTAMP:20190929T103103Z
DTSTART:20191109T200000Z
DTEND:20191110T060000Z
SUMMARY:Booked Out
END:VEVENT
END:VCALENDAR
