BEGIN:VCALENDAR
VERSION:2.0
PRODID:-//Squarespace Inc/Squarespace 6//v6//EN
BEGIN:VEVENT
UID:5d132be98614770001246027@squarespace.com
DTSTAMP:20190626T082639Z
DTSTART:20191025T200000Z
DTEND:20191026T060000Z
SUMMARY:Booked Out
END:VEVENT
END:VCALENDAR
