BEGIN:VCALENDAR
VERSION:2.0
PRODID:-//Squarespace Inc/Squarespace 6//v6//EN
BEGIN:VEVENT
UID:5d0b5ed293c9f4000129cde3@squarespace.com
DTSTAMP:20190626T083017Z
DTSTART:20191018T200000Z
DTEND:20191019T060000Z
SUMMARY:Booked Out
END:VEVENT
END:VCALENDAR
